BEGIN:VCALENDAR
VERSION:2.0
PRODID:-// - ECPv4.6.16//NONSGML v1.0//EN
CALSCALE:GREGORIAN
METHOD:PUBLISH
X-ORIGINAL-URL:https://kab-olpe-siegen.de
X-WR-CALDESC:Veranstaltungen für 
BEGIN:VEVENT
DTSTART;TZID=Europe/Berlin:20180911T180000
DTEND;TZID=Europe/Berlin:20180911T190000
DTSTAMP:20260421T090155
CREATED:20180824T140538Z
LAST-MODIFIED:20180824T140805Z
UID:786-1536688800-1536692400@kab-olpe-siegen.de
SUMMARY:Friedensgebet
DESCRIPTION: \n
URL:https://kab-olpe-siegen.de/event/friedensgebet/
LOCATION:Fasanenweg 3\, Lennestadt-Saalhausen\, 57368
ATTACH;FMTTYPE=image/jpeg:https://kab-olpe-siegen.de/wp-content/uploads/2018/08/Friedensgebet2018.jpg
END:VEVENT
END:VCALENDAR