BEGIN:VCALENDAR
VERSION:2.0
PRODID:-// - ECPv4.6.16//NONSGML v1.0//EN
CALSCALE:GREGORIAN
METHOD:PUBLISH
X-ORIGINAL-URL:https://kab-olpe-siegen.de
X-WR-CALDESC:Veranstaltungen für 
BEGIN:VEVENT
DTSTART;TZID=Europe/Berlin:20180505T080000
DTEND;TZID=Europe/Berlin:20180505T170000
DTSTAMP:20260425T122614
CREATED:20180326T121934Z
LAST-MODIFIED:20180326T121934Z
UID:452-1525507200-1525539600@kab-olpe-siegen.de
SUMMARY:Fußwallfahrt auf dem Franz-Hitze-Weg in Olpe
DESCRIPTION:In diesem Jahr findet die Fußwallfahrt der Dekanats-kfd Siegen am Samstag\, den 05. Mai auf dem Franz-Hitze-Weg in Olpe statt. Die Wegstrecke beträgt ca 20 km und ist nur für geübte Wanderer geeignet. Unterwegs werden die Teilnehmer-innen an verschiedenen Orten mit meditativen Texten und Gedanken zum Nachdenken über Gott und die Welt angeregt. Während des Tages ist Rucksackverpflegung mitzubringen. Der Tag soll mit einem gemeinsamen Essen ausklingen. Die Einladung gilt für Frauen und Männer. Anmeldungen nehmen Frau Mechthild Klinge unter 02739 4476 und Frau Ursel Liedtke-Kölsch unter Tel 0271 390997 entgegen. \n
URL:https://kab-olpe-siegen.de/event/fusswallfahrt-auf-dem-franz-hitze-weg-in-olpe/
END:VEVENT
END:VCALENDAR