BEGIN:VCALENDAR
VERSION:2.0
PRODID:-// - ECPv4.6.16//NONSGML v1.0//EN
CALSCALE:GREGORIAN
METHOD:PUBLISH
X-ORIGINAL-URL:https://kab-olpe-siegen.de
X-WR-CALDESC:Veranstaltungen für 
BEGIN:VEVENT
DTSTART;TZID=Europe/Berlin:20180930T110000
DTEND;TZID=Europe/Berlin:20180930T170000
DTSTAMP:20260419T130724
CREATED:20180925T125755Z
LAST-MODIFIED:20181002T073548Z
UID:854-1538305200-1538326800@kab-olpe-siegen.de
SUMMARY:Interkultureller Sonntagstreff
DESCRIPTION:\nKAB zeigt Flagge für Menschenrechte \nVielfalt  ist  Alltag  in  unserem  Land\, stellt der KAB-Bezirksverband Olpe/Siegen zu der am Sonntag\, 23.9.2018 beginnenden Interkulturellen Woche fest.  Überall  begegnen  sich Menschen verschiedener Herkunft die einen sind seit Generationen hier zuhause\, die  anderen  sind  aus  allen  Himmelsrichtungen  zugewandert.  „Das  ist  Deutschland – ein  Land  mit  einer  langen  Geschichte  und  gewachsener  kultureller  Prägung“\, so Ullrich Remmel vom Bezirksvorstand. \nDoch seit  einiger  Zeit  kommt  dieses  Gesellschaftsmodell  unter  Druck.  Manche  wollen Menschen\,  die  eine  vermeintlich  „andere“  kulturelle  Herkunft und  religiöse  Beheimatung haben\, ihre Rechte streitig machen\, wollen ausgrenzen und schrecken auch vor populistischen\, nationalistischen und sogar rechtsradikalen Parolen nicht zurück. \nIn  dieser  Situation  will  die  KAB anläßlich der Interkulturellen  Woche  (IKW)  ein  starkes  Signal  für  das friedliche Zusammenleben setzen. „Vielfalt verbindet.“ heißt das Motto der bundesweiten Aktionswoche. \nMit ihrem interkulturellen Sonntagstreff am 30.09.2018 von 11 – 17 Uhr im Josef-Gockeln-Haus in Kirchhundem-Rahrbach setzt  die KAB ein wichtiges Zeichen für Mitgefühl\, Solidarität\, Wertschätzung und  Integration der Menschen\, die hier Schutz suchen. \nNeben interkulturellem Austausch und spirituellen Impulsen geht es an diesem Tag vor allem darum\, sich wertschätzend zu begegnen und Beziehungen zu pflegen. \n  \nWeitere Informationen: KAB Olpe/Siegen\, Friedrichstr. 4\, 57462 Olpe\, T: 02761/94460 oder per E-Mail: info@kab-olpe-siegen.de \nZusätzliche Informationen finden Sie hier. \n
URL:https://kab-olpe-siegen.de/event/interkultureller-sonntagstreff/
ORGANIZER;CN="KAB%20Olpe%2FSiegen":MAILTO:veronika.poggel[at]kab-olpe-siegen.de
END:VEVENT
END:VCALENDAR